Package: randRotation
Version: 1.10.0
Command: /Library/Frameworks/R.framework/Resources/bin/R CMD INSTALL randRotation
StartedAt: 2023-04-16 14:16:52 -0400 (Sun, 16 Apr 2023)
EndedAt: 2023-04-16 14:16:59 -0400 (Sun, 16 Apr 2023)
EllapsedTime: 7.1 seconds
RetCode: 0
Status: OK