Package: rain Version: 1.32.0 Command: rm -rf rain.buildbin-libdir && mkdir rain.buildbin-libdir && /Users/biocbuild/BBS/utils/build-universal.sh rain_1.32.0.tar.gz /Library/Frameworks/R.framework/Resources/bin/R rain.buildbin-libdir StartedAt: 2023-04-18 18:33:50 -0400 (Tue, 18 Apr 2023) EndedAt: 2023-04-18 18:34:10 -0400 (Tue, 18 Apr 2023) EllapsedTime: 20.8 seconds RetCode: 0 Status: OK PackageFile: rain_1.32.0.tgz PackageFileSize: 630.9 KiB