Package: rSWeeP Version: 1.10.0 Command: /Library/Frameworks/R.framework/Resources/bin/R CMD build --keep-empty-dirs --no-resave-data rSWeeP StartedAt: 2023-04-18 02:35:03 -0400 (Tue, 18 Apr 2023) EndedAt: 2023-04-18 02:35:18 -0400 (Tue, 18 Apr 2023) EllapsedTime: 15.2 seconds RetCode: 0 Status: OK PackageFile: rSWeeP_1.10.0.tar.gz PackageFileSize: 1.832 MiB