Package: rRDP Version: 1.32.0 Command: rm -rf rRDP.buildbin-libdir && mkdir rRDP.buildbin-libdir && /Users/biocbuild/BBS/utils/build-universal.sh rRDP_1.32.0.tar.gz /Library/Frameworks/R.framework/Resources/bin/R rRDP.buildbin-libdir StartedAt: 2023-04-18 19:06:11 -0400 (Tue, 18 Apr 2023) EndedAt: 2023-04-18 19:06:38 -0400 (Tue, 18 Apr 2023) EllapsedTime: 27.3 seconds RetCode: 0 Status: OK PackageFile: rRDP_1.32.0.tgz PackageFileSize: 1.567 MiB