Package: qsmooth Version: 1.14.0 Command: /Library/Frameworks/R.framework/Resources/bin/R CMD INSTALL qsmooth StartedAt: 2023-04-16 17:50:32 -0400 (Sun, 16 Apr 2023) EndedAt: 2023-04-16 17:51:26 -0400 (Sun, 16 Apr 2023) EllapsedTime: 53.9 seconds RetCode: 0 Status: OK