Package: pvca Version: 1.38.0 Command: /Library/Frameworks/R.framework/Resources/bin/R CMD INSTALL pvca StartedAt: 2023-04-16 14:44:24 -0400 (Sun, 16 Apr 2023) EndedAt: 2023-04-16 14:44:41 -0400 (Sun, 16 Apr 2023) EllapsedTime: 16.6 seconds RetCode: 0 Status: OK