Package: pvca Version: 1.38.0 Command: /Library/Frameworks/R.framework/Resources/bin/R CMD build --keep-empty-dirs --no-resave-data pvca StartedAt: 2023-04-17 23:04:53 -0400 (Mon, 17 Apr 2023) EndedAt: 2023-04-17 23:05:21 -0400 (Mon, 17 Apr 2023) EllapsedTime: 27.4 seconds RetCode: 0 Status: OK PackageFile: pvca_1.38.0.tar.gz PackageFileSize: 216.2 KiB