Package: pvca Version: 1.38.0 Command: rm -rf pvca.buildbin-libdir && mkdir pvca.buildbin-libdir && /Users/biocbuild/BBS/utils/build-universal.sh pvca_1.38.0.tar.gz /Library/Frameworks/R.framework/Resources/bin/R pvca.buildbin-libdir StartedAt: 2023-04-18 18:26:41 -0400 (Tue, 18 Apr 2023) EndedAt: 2023-04-18 18:27:12 -0400 (Tue, 18 Apr 2023) EllapsedTime: 30.6 seconds RetCode: 0 Status: OK PackageFile: pvca_1.38.0.tgz PackageFileSize: 222.6 KiB