Package: proDA Version: 1.12.0 Command: /Library/Frameworks/R.framework/Resources/bin/R CMD INSTALL proDA StartedAt: 2023-04-16 14:47:57 -0400 (Sun, 16 Apr 2023) EndedAt: 2023-04-16 14:48:33 -0400 (Sun, 16 Apr 2023) EllapsedTime: 35.6 seconds RetCode: 0 Status: OK