Package: proDA Version: 1.12.0 Command: /Library/Frameworks/R.framework/Resources/bin/R CMD build --keep-empty-dirs --no-resave-data proDA StartedAt: 2023-04-17 22:34:54 -0400 (Mon, 17 Apr 2023) EndedAt: 2023-04-17 22:36:31 -0400 (Mon, 17 Apr 2023) EllapsedTime: 96.5 seconds RetCode: 0 Status: OK PackageFile: proDA_1.12.0.tar.gz PackageFileSize: 1.211 MiB