Package: proDA Version: 1.12.0 Command: rm -rf proDA.buildbin-libdir && mkdir proDA.buildbin-libdir && /Users/biocbuild/BBS/utils/build-universal.sh proDA_1.12.0.tar.gz /Library/Frameworks/R.framework/Resources/bin/R proDA.buildbin-libdir StartedAt: 2023-04-18 18:22:46 -0400 (Tue, 18 Apr 2023) EndedAt: 2023-04-18 18:23:38 -0400 (Tue, 18 Apr 2023) EllapsedTime: 52.3 seconds RetCode: 0 Status: OK PackageFile: proDA_1.12.0.tgz PackageFileSize: 1.14 MiB