Package: preprocessCore Version: 1.60.2 Command: rm -rf preprocessCore.buildbin-libdir && mkdir preprocessCore.buildbin-libdir && /Users/biocbuild/BBS/utils/build-universal.sh preprocessCore_1.60.2.tar.gz /Library/Frameworks/R.framework/Resources/bin/R preprocessCore.buildbin-libdir StartedAt: 2023-04-18 18:20:57 -0400 (Tue, 18 Apr 2023) EndedAt: 2023-04-18 18:21:48 -0400 (Tue, 18 Apr 2023) EllapsedTime: 51.6 seconds RetCode: 0 Status: OK PackageFile: preprocessCore_1.60.2.tgz PackageFileSize: 159.8 KiB