Package: pcaExplorer
Version: 2.24.0
Command: rm -rf pcaExplorer.buildbin-libdir && mkdir pcaExplorer.buildbin-libdir && /Users/biocbuild/BBS/utils/build-universal.sh pcaExplorer_2.24.0.tar.gz /Library/Frameworks/R.framework/Resources/bin/R pcaExplorer.buildbin-libdir
StartedAt: 2023-04-18 18:09:14 -0400 (Tue, 18 Apr 2023)
EndedAt: 2023-04-18 18:11:02 -0400 (Tue, 18 Apr 2023)
EllapsedTime: 107.9 seconds
RetCode: 0
Status: OK
PackageFile: pcaExplorer_2.24.0.tgz
PackageFileSize: 13.17 <A href="http://en.wikipedia.org/wiki/MiB" target="_blank">MiB</A>