Package: pathifier
Version: 1.36.0
Command: /Library/Frameworks/R.framework/Resources/bin/R CMD INSTALL pathifier
StartedAt: 2023-04-16 14:36:54 -0400 (Sun, 16 Apr 2023)
EndedAt: 2023-04-16 14:36:59 -0400 (Sun, 16 Apr 2023)
EllapsedTime: 5.5 seconds
RetCode: 0
Status: OK