Package: pathVar Version: 1.28.0 Command: /Library/Frameworks/R.framework/Resources/bin/R CMD build --keep-empty-dirs --no-resave-data pathVar StartedAt: 2023-04-17 20:59:20 -0400 (Mon, 17 Apr 2023) EndedAt: 2023-04-17 21:04:23 -0400 (Mon, 17 Apr 2023) EllapsedTime: 303.3 seconds RetCode: 0 Status: OK PackageFile: pathVar_1.28.0.tar.gz PackageFileSize: 4.062 MiB