Package: pandaR Version: 1.30.0 Command: /Library/Frameworks/R.framework/Resources/bin/R CMD INSTALL pandaR StartedAt: 2023-04-16 15:48:17 -0400 (Sun, 16 Apr 2023) EndedAt: 2023-04-16 15:48:34 -0400 (Sun, 16 Apr 2023) EllapsedTime: 16.5 seconds RetCode: 0 Status: OK