Package: pandaR Version: 1.30.0 Command: /Library/Frameworks/R.framework/Resources/bin/R CMD build --keep-empty-dirs --no-resave-data pandaR StartedAt: 2023-04-17 20:43:51 -0400 (Mon, 17 Apr 2023) EndedAt: 2023-04-17 20:45:05 -0400 (Mon, 17 Apr 2023) EllapsedTime: 73.6 seconds RetCode: 0 Status: OK PackageFile: pandaR_1.30.0.tar.gz PackageFileSize: 8.675 MiB