Package: pandaR Version: 1.30.0 Command: rm -rf pandaR.buildbin-libdir && mkdir pandaR.buildbin-libdir && /Users/biocbuild/BBS/utils/build-universal.sh pandaR_1.30.0.tar.gz /Library/Frameworks/R.framework/Resources/bin/R pandaR.buildbin-libdir StartedAt: 2023-04-18 18:07:48 -0400 (Tue, 18 Apr 2023) EndedAt: 2023-04-18 18:08:11 -0400 (Tue, 18 Apr 2023) EllapsedTime: 23.4 seconds RetCode: 0 Status: OK PackageFile: pandaR_1.30.0.tgz PackageFileSize: 9.069 MiB