Package: padma Version: 1.8.0 Command: /Library/Frameworks/R.framework/Resources/bin/R CMD build --keep-empty-dirs --no-resave-data padma StartedAt: 2023-04-17 20:24:16 -0400 (Mon, 17 Apr 2023) EndedAt: 2023-04-17 20:27:30 -0400 (Mon, 17 Apr 2023) EllapsedTime: 194.2 seconds RetCode: 0 Status: OK PackageFile: padma_1.8.0.tar.gz PackageFileSize: 1.09 MiB