Package: packFinder Version: 1.10.0 Command: /Library/Frameworks/R.framework/Resources/bin/R CMD build --keep-empty-dirs --no-resave-data packFinder StartedAt: 2023-04-17 20:23:41 -0400 (Mon, 17 Apr 2023) EndedAt: 2023-04-17 20:24:16 -0400 (Mon, 17 Apr 2023) EllapsedTime: 34.9 seconds RetCode: 0 Status: OK PackageFile: packFinder_1.10.0.tar.gz PackageFileSize: 1.13 MiB