Package: orthogene Version: 1.4.2 Command: /Library/Frameworks/R.framework/Resources/bin/R CMD INSTALL orthogene StartedAt: 2023-04-16 18:58:37 -0400 (Sun, 16 Apr 2023) EndedAt: 2023-04-16 18:58:54 -0400 (Sun, 16 Apr 2023) EllapsedTime: 17.5 seconds RetCode: 0 Status: OK