Package: orthogene Version: 1.4.2 Command: /Library/Frameworks/R.framework/Resources/bin/R CMD build --keep-empty-dirs --no-resave-data orthogene StartedAt: 2023-04-17 20:01:08 -0400 (Mon, 17 Apr 2023) EndedAt: 2023-04-17 20:01:54 -0400 (Mon, 17 Apr 2023) EllapsedTime: 45.5 seconds RetCode: 0 Status: OK PackageFile: orthogene_1.4.2.tar.gz PackageFileSize: 2.77 MiB