Package: orthogene Version: 1.4.2 Command: rm -rf orthogene.buildbin-libdir && mkdir orthogene.buildbin-libdir && /Users/biocbuild/BBS/utils/build-universal.sh orthogene_1.4.2.tar.gz /Library/Frameworks/R.framework/Resources/bin/R orthogene.buildbin-libdir StartedAt: 2023-04-18 18:05:19 -0400 (Tue, 18 Apr 2023) EndedAt: 2023-04-18 18:05:48 -0400 (Tue, 18 Apr 2023) EllapsedTime: 28.6 seconds RetCode: 0 Status: OK PackageFile: orthogene_1.4.2.tgz PackageFileSize: 2.884 MiB