Package: oneSENSE Version: 1.20.0 Command: /Library/Frameworks/R.framework/Resources/bin/R CMD INSTALL oneSENSE StartedAt: 2023-04-16 15:19:58 -0400 (Sun, 16 Apr 2023) EndedAt: 2023-04-16 15:20:19 -0400 (Sun, 16 Apr 2023) EllapsedTime: 20.6 seconds RetCode: 0 Status: OK