Package: oncoscanR Version: 1.0.0 Command: /Library/Frameworks/R.framework/Resources/bin/R CMD build --keep-empty-dirs --no-resave-data oncoscanR StartedAt: 2023-04-17 19:34:28 -0400 (Mon, 17 Apr 2023) EndedAt: 2023-04-17 19:37:38 -0400 (Mon, 17 Apr 2023) EllapsedTime: 191.0 seconds RetCode: 0 Status: OK PackageFile: oncoscanR_1.0.0.tar.gz PackageFileSize: 984.2 KiB