Package: oncoscanR Version: 1.0.0 Command: rm -rf oncoscanR.buildbin-libdir && mkdir oncoscanR.buildbin-libdir && /Users/biocbuild/BBS/utils/build-universal.sh oncoscanR_1.0.0.tar.gz /Library/Frameworks/R.framework/Resources/bin/R oncoscanR.buildbin-libdir StartedAt: 2023-04-18 18:02:27 -0400 (Tue, 18 Apr 2023) EndedAt: 2023-04-18 18:03:00 -0400 (Tue, 18 Apr 2023) EllapsedTime: 33.5 seconds RetCode: 0 Status: OK PackageFile: oncoscanR_1.0.0.tgz PackageFileSize: 1.027 MiB