Package: oncomix
Version: 1.20.0
Command: rm -rf oncomix.buildbin-libdir && mkdir oncomix.buildbin-libdir && /Users/biocbuild/BBS/utils/build-universal.sh oncomix_1.20.0.tar.gz /Library/Frameworks/R.framework/Resources/bin/R oncomix.buildbin-libdir
StartedAt: 2023-04-18 18:02:14 -0400 (Tue, 18 Apr 2023)
EndedAt: 2023-04-18 18:03:09 -0400 (Tue, 18 Apr 2023)
EllapsedTime: 54.7 seconds
RetCode: 0
Status: OK
PackageFile: oncomix_1.20.0.tgz
PackageFileSize: 2.375 <A href="http://en.wikipedia.org/wiki/MiB" target="_blank">MiB</A>