| Back to Mac ARM64 build report for BioC 3.16 |
|
This page was generated on 2023-04-19 11:01:50 -0400 (Wed, 19 Apr 2023).
| Hostname | OS | Arch (*) | R version | Installed pkgs |
|---|---|---|---|---|
| kjohnson | macOS 13.0 Ventura | arm64 | 4.2.2 (2022-10-31) -- "Innocent and Trusting" | 4256 |
| Click on any hostname to see more info about the system (e.g. compilers) (*) as reported by 'uname -p', except on Windows and Mac OS X | ||||
|
To the developers/maintainers of the oligoClasses package: Make sure to use the following settings in order to reproduce any error or warning you see on this page. |
| Package 1379/2183 | Hostname | OS / Arch | INSTALL | BUILD | BUILD BIN | ||||||||
| oligoClasses 1.60.0 (landing page) Benilton Carvalho
| kjohnson | macOS 13.0 Ventura / arm64 | OK | OK | OK | ||||||||
| QUICK STATS | OS / Arch | INSTALL | BUILD | BUILD BIN | |||||||||||||
| kjohnson | macOS 13.0 Ventura / arm64 |
|
|
| |||||||||||||
| Package 1/12 | Hostname | OS / Arch | INSTALL | BUILD | BUILD BIN | ||||||||||||
| affycoretools 1.70.0 (landing page) James W. MacDonald
| kjohnson | macOS 13.0 Ventura / arm64 | OK | OK | OK | ||||||||||||
| Package 2/12 | Hostname | OS / Arch | INSTALL | BUILD | BUILD BIN | ||||||||||||
| cn.farms 1.46.0 (landing page) Andreas Mitterecker
| kjohnson | macOS 13.0 Ventura / arm64 | OK | OK | OK | ||||||||||||
| Package 3/12 | Hostname | OS / Arch | INSTALL | BUILD | BUILD BIN | ||||||||||||
| crlmm 1.56.0 (landing page) Benilton S Carvalho
| kjohnson | macOS 13.0 Ventura / arm64 | OK | OK | OK | ||||||||||||
| Package 4/12 | Hostname | OS / Arch | INSTALL | BUILD | BUILD BIN | ||||||||||||
| frma 1.50.0 (landing page) Matthew N. McCall
| kjohnson | macOS 13.0 Ventura / arm64 | OK | OK | OK | ||||||||||||
| Package 5/12 | Hostname | OS / Arch | INSTALL | BUILD | BUILD BIN | ||||||||||||
| ITALICS 2.58.0 (landing page) Guillem Rigaill
| kjohnson | macOS 13.0 Ventura / arm64 | OK | OK | OK | ||||||||||||
| Package 6/12 | Hostname | OS / Arch | INSTALL | BUILD | BUILD BIN | ||||||||||||
| mBPCR 1.52.0 (landing page) P.M.V. Rancoita
| kjohnson | macOS 13.0 Ventura / arm64 | OK | OK | OK | ||||||||||||
| Package 7/12 | Hostname | OS / Arch | INSTALL | BUILD | BUILD BIN | ||||||||||||
| mimager 1.22.0 (landing page) Aaron Wolen
| kjohnson | macOS 13.0 Ventura / arm64 | OK | OK | OK | ||||||||||||
| Package 8/12 | Hostname | OS / Arch | INSTALL | BUILD | BUILD BIN | ||||||||||||
| MinimumDistance 1.42.0 (landing page) Robert Scharpf
| kjohnson | macOS 13.0 Ventura / arm64 | OK | OK | OK | ||||||||||||
| Package 9/12 | Hostname | OS / Arch | INSTALL | BUILD | BUILD BIN | ||||||||||||
| oligo 1.62.2 (landing page) Benilton Carvalho
| kjohnson | macOS 13.0 Ventura / arm64 | OK | OK | OK | ||||||||||||
| Package 10/12 | Hostname | OS / Arch | INSTALL | BUILD | BUILD BIN | ||||||||||||
| pdInfoBuilder 1.62.0 (landing page) Benilton Carvalho
| kjohnson | macOS 13.0 Ventura / arm64 | OK | OK | OK | ||||||||||||
| Package 11/12 | Hostname | OS / Arch | INSTALL | BUILD | BUILD BIN | ||||||||||||
| puma 3.40.0 (landing page) Xuejun Liu
| kjohnson | macOS 13.0 Ventura / arm64 | OK | OK | OK | ||||||||||||
| Package 12/12 | Hostname | OS / Arch | INSTALL | BUILD | BUILD BIN | ||||||||||||
| VanillaICE 1.60.0 (landing page) Robert Scharpf
| kjohnson | macOS 13.0 Ventura / arm64 | OK | OK | OK | ||||||||||||