Package: nucleR Version: 2.30.0 Command: /Library/Frameworks/R.framework/Resources/bin/R CMD INSTALL nucleR StartedAt: 2023-04-16 16:12:39 -0400 (Sun, 16 Apr 2023) EndedAt: 2023-04-16 16:13:21 -0400 (Sun, 16 Apr 2023) EllapsedTime: 42.2 seconds RetCode: 0 Status: OK