Package: nucleR Version: 2.30.0 Command: /Library/Frameworks/R.framework/Resources/bin/R CMD build --keep-empty-dirs --no-resave-data nucleR StartedAt: 2023-04-17 19:03:17 -0400 (Mon, 17 Apr 2023) EndedAt: 2023-04-17 19:04:47 -0400 (Mon, 17 Apr 2023) EllapsedTime: 89.7 seconds RetCode: 0 Status: OK PackageFile: nucleR_2.30.0.tar.gz PackageFileSize: 1.677 MiB