Package: ngsReports Version: 2.0.3 Command: rm -rf ngsReports.buildbin-libdir && mkdir ngsReports.buildbin-libdir && /Users/biocbuild/BBS/utils/build-universal.sh ngsReports_2.0.3.tar.gz /Library/Frameworks/R.framework/Resources/bin/R ngsReports.buildbin-libdir StartedAt: 2023-04-18 17:53:14 -0400 (Tue, 18 Apr 2023) EndedAt: 2023-04-18 17:54:09 -0400 (Tue, 18 Apr 2023) EllapsedTime: 54.4 seconds RetCode: 0 Status: OK PackageFile: ngsReports_2.0.3.tgz PackageFileSize: 3.016 MiB