Package: netboost
Version: 2.6.1
Command: /Library/Frameworks/R.framework/Resources/bin/R CMD build --keep-empty-dirs --no-resave-data netboost
StartedAt: 2023-04-17 18:37:33 -0400 (Mon, 17 Apr 2023)
EndedAt: 2023-04-17 18:38:57 -0400 (Mon, 17 Apr 2023)
EllapsedTime: 83.9 seconds
RetCode: 0
Status: OK
PackageFile: netboost_2.6.1.tar.gz
PackageFileSize: 1.074 <A href="http://en.wikipedia.org/wiki/MiB" target="_blank">MiB</A>