Package: muscat Version: 1.12.1 Command: /Library/Frameworks/R.framework/Resources/bin/R CMD INSTALL muscat StartedAt: 2023-04-16 18:05:24 -0400 (Sun, 16 Apr 2023) EndedAt: 2023-04-16 18:06:39 -0400 (Sun, 16 Apr 2023) EllapsedTime: 74.8 seconds RetCode: 0 Status: OK