Package: muscat Version: 1.12.1 Command: /Library/Frameworks/R.framework/Resources/bin/R CMD build --keep-empty-dirs --no-resave-data muscat StartedAt: 2023-04-17 18:03:49 -0400 (Mon, 17 Apr 2023) EndedAt: 2023-04-17 18:07:36 -0400 (Mon, 17 Apr 2023) EllapsedTime: 226.8 seconds RetCode: 1 Status: ERROR PackageFile: None PackageFileSize: NA