Package: multiOmicsViz Version: 1.22.0 Command: /Library/Frameworks/R.framework/Resources/bin/R CMD build --keep-empty-dirs --no-resave-data multiOmicsViz StartedAt: 2023-04-17 17:56:09 -0400 (Mon, 17 Apr 2023) EndedAt: 2023-04-17 17:57:10 -0400 (Mon, 17 Apr 2023) EllapsedTime: 60.7 seconds RetCode: 0 Status: OK PackageFile: multiOmicsViz_1.22.0.tar.gz PackageFileSize: 2.954 MiB