Package: multiOmicsViz Version: 1.22.0 Command: rm -rf multiOmicsViz.buildbin-libdir && mkdir multiOmicsViz.buildbin-libdir && /Users/biocbuild/BBS/utils/build-universal.sh multiOmicsViz_1.22.0.tar.gz /Library/Frameworks/R.framework/Resources/bin/R multiOmicsViz.buildbin-libdir StartedAt: 2023-04-18 17:42:16 -0400 (Tue, 18 Apr 2023) EndedAt: 2023-04-18 17:43:01 -0400 (Tue, 18 Apr 2023) EllapsedTime: 44.3 seconds RetCode: 0 Status: OK PackageFile: multiOmicsViz_1.22.0.tgz PackageFileSize: 1.601 MiB