git_url: https://git.bioconductor.org/packages/multiOmicsViz git_branch: RELEASE_3_16 git_last_commit: 5ed6012 git_last_commit_date: 2022-11-01 11:15:20 -0400 (Tue, 01 Nov 2022) Package: multiOmicsViz Version: 1.22.0 Maintainer: Jing Wang MaintainerEmail: jingwang.uestc at gmail.com