Package: missRows Version: 1.18.0 Command: rm -rf missRows.buildbin-libdir && mkdir missRows.buildbin-libdir && /Users/biocbuild/BBS/utils/build-universal.sh missRows_1.18.0.tar.gz /Library/Frameworks/R.framework/Resources/bin/R missRows.buildbin-libdir StartedAt: 2023-04-18 17:23:20 -0400 (Tue, 18 Apr 2023) EndedAt: 2023-04-18 17:24:32 -0400 (Tue, 18 Apr 2023) EllapsedTime: 72.6 seconds RetCode: 0 Status: OK PackageFile: missRows_1.18.0.tgz PackageFileSize: 835 KiB