Package: miRNApath Version: 1.58.0 Command: /Library/Frameworks/R.framework/Resources/bin/R CMD INSTALL miRNApath StartedAt: 2023-04-16 14:13:11 -0400 (Sun, 16 Apr 2023) EndedAt: 2023-04-16 14:13:15 -0400 (Sun, 16 Apr 2023) EllapsedTime: 4.3 seconds RetCode: 0 Status: OK