Package: matter Version: 2.0.1 Command: rm -rf matter.buildbin-libdir && mkdir matter.buildbin-libdir && /Users/biocbuild/BBS/utils/build-universal.sh matter_2.0.1.tar.gz /Library/Frameworks/R.framework/Resources/bin/R matter.buildbin-libdir StartedAt: 2023-04-18 16:58:13 -0400 (Tue, 18 Apr 2023) EndedAt: 2023-04-18 16:59:31 -0400 (Tue, 18 Apr 2023) EllapsedTime: 78.1 seconds RetCode: 0 Status: OK PackageFile: matter_2.0.1.tgz PackageFileSize: 1.598 MiB