Package: massiR Version: 1.34.0 Command: rm -rf massiR.buildbin-libdir && mkdir massiR.buildbin-libdir && /Users/biocbuild/BBS/utils/build-universal.sh massiR_1.34.0.tar.gz /Library/Frameworks/R.framework/Resources/bin/R massiR.buildbin-libdir StartedAt: 2023-04-18 16:57:48 -0400 (Tue, 18 Apr 2023) EndedAt: 2023-04-18 16:57:59 -0400 (Tue, 18 Apr 2023) EllapsedTime: 11.1 seconds RetCode: 0 Status: OK PackageFile: massiR_1.34.0.tgz PackageFileSize: 1.149 MiB