Package: logitT Version: 1.56.0 Command: rm -rf logitT.buildbin-libdir && mkdir logitT.buildbin-libdir && /Users/biocbuild/BBS/utils/build-universal.sh logitT_1.56.0.tar.gz /Library/Frameworks/R.framework/Resources/bin/R logitT.buildbin-libdir StartedAt: 2023-04-18 16:51:01 -0400 (Tue, 18 Apr 2023) EndedAt: 2023-04-18 16:51:13 -0400 (Tue, 18 Apr 2023) EllapsedTime: 12.2 seconds RetCode: 0 Status: OK PackageFile: logitT_1.56.0.tgz PackageFileSize: 298.4 KiB