Package: lineagespot Version: 1.2.0 Command: rm -rf lineagespot.buildbin-libdir && mkdir lineagespot.buildbin-libdir && /Users/biocbuild/BBS/utils/build-universal.sh lineagespot_1.2.0.tar.gz /Library/Frameworks/R.framework/Resources/bin/R lineagespot.buildbin-libdir StartedAt: 2023-04-18 16:48:58 -0400 (Tue, 18 Apr 2023) EndedAt: 2023-04-18 16:50:16 -0400 (Tue, 18 Apr 2023) EllapsedTime: 78.3 seconds RetCode: 0 Status: OK PackageFile: lineagespot_1.2.0.tgz PackageFileSize: 751.2 KiB