Package: keggorthology Version: 2.50.0 Command: rm -rf keggorthology.buildbin-libdir && mkdir keggorthology.buildbin-libdir && /Users/biocbuild/BBS/utils/build-universal.sh keggorthology_2.50.0.tar.gz /Library/Frameworks/R.framework/Resources/bin/R keggorthology.buildbin-libdir StartedAt: 2023-04-18 16:46:07 -0400 (Tue, 18 Apr 2023) EndedAt: 2023-04-18 16:46:47 -0400 (Tue, 18 Apr 2023) EllapsedTime: 39.7 seconds RetCode: 0 Status: OK PackageFile: keggorthology_2.50.0.tgz PackageFileSize: 815.8 KiB