Package: kebabs Version: 1.32.0 Command: /Library/Frameworks/R.framework/Resources/bin/R CMD build --keep-empty-dirs --no-resave-data kebabs StartedAt: 2023-04-17 12:09:29 -0400 (Mon, 17 Apr 2023) EndedAt: 2023-04-17 12:17:03 -0400 (Mon, 17 Apr 2023) EllapsedTime: 453.4 seconds RetCode: 0 Status: OK PackageFile: kebabs_1.32.0.tar.gz PackageFileSize: 2.376 MiB