Package: interactiveDisplayBase Version: 1.36.0 Command: /Library/Frameworks/R.framework/Resources/bin/R CMD build --keep-empty-dirs --no-resave-data interactiveDisplayBase StartedAt: 2023-04-17 11:30:39 -0400 (Mon, 17 Apr 2023) EndedAt: 2023-04-17 11:30:46 -0400 (Mon, 17 Apr 2023) EllapsedTime: 7.7 seconds RetCode: 0 Status: OK PackageFile: interactiveDisplayBase_1.36.0.tar.gz PackageFileSize: 7.149 KiB