Package: imageHTS Version: 1.48.0 Command: /Library/Frameworks/R.framework/Resources/bin/R CMD build --keep-empty-dirs --no-resave-data imageHTS StartedAt: 2023-04-17 10:58:13 -0400 (Mon, 17 Apr 2023) EndedAt: 2023-04-17 11:01:08 -0400 (Mon, 17 Apr 2023) EllapsedTime: 174.7 seconds RetCode: 0 Status: OK PackageFile: imageHTS_1.48.0.tar.gz PackageFileSize: 2.475 MiB