Package: imageHTS Version: 1.48.0 Command: rm -rf imageHTS.buildbin-libdir && mkdir imageHTS.buildbin-libdir && /Users/biocbuild/BBS/utils/build-universal.sh imageHTS_1.48.0.tar.gz /Library/Frameworks/R.framework/Resources/bin/R imageHTS.buildbin-libdir StartedAt: 2023-04-18 16:32:33 -0400 (Tue, 18 Apr 2023) EndedAt: 2023-04-18 16:33:50 -0400 (Tue, 18 Apr 2023) EllapsedTime: 77.2 seconds RetCode: 0 Status: OK PackageFile: imageHTS_1.48.0.tgz PackageFileSize: 2.401 MiB