Package: ibh
Version: 1.46.0
Command: rm -rf ibh.buildbin-libdir && mkdir ibh.buildbin-libdir && /Users/biocbuild/BBS/utils/build-universal.sh ibh_1.46.0.tar.gz /Library/Frameworks/R.framework/Resources/bin/R ibh.buildbin-libdir
StartedAt: 2023-04-18 16:29:39 -0400 (Tue, 18 Apr 2023)
EndedAt: 2023-04-18 16:29:47 -0400 (Tue, 18 Apr 2023)
EllapsedTime: 7.8 seconds
RetCode: 0
Status: OK
PackageFile: ibh_1.46.0.tgz
PackageFileSize: 155.4 <A href="http://en.wikipedia.org/wiki/KiB" target="_blank">KiB</A>