git_url: https://git.bioconductor.org/packages/iGC git_branch: RELEASE_3_16 git_last_commit: 67a0daf git_last_commit_date: 2022-11-01 11:12:09 -0400 (Tue, 01 Nov 2022) Package: iGC Version: 1.28.0 Maintainer: Liang-Bo Wang MaintainerEmail: r02945054 at ntu.edu.tw